BEGIN:VCALENDAR
VERSION:2.0
PRODID:-//hacksw/handcal//NONSGML v1.0//EN
BEGIN:VEVENT
SUMMARY:La Nat’Synchro Mulhouse  s’envole au pays imaginaire
UID:73b9fdfa-78a5-4517-aa21-ef7970b87787
DTSTART:20260702T220000Z
DTEND:20260704T220000Z
LOCATION:Localisation   
CATEGORIES:Festif
STATUS:
DESCRIPTION:<p>Cette annee, la Nat'Synchro Mulhouse vous invite a
 prendre votre envol vers un univers magique et intemporel avec un
 spectacle feerique inspire de <strong>Peter Pan</strong>. Un
 battement de cils… une etincelle… et vous voila transportes dans
 un monde ou tout devient possible.</p>
 
 <p>Entre choregraphies
 aquatiques, jeux de lumiere scintillants et decors enchanteurs,
 laissez-vous emporter au cœur du Pays Imaginaire, la ou les reves
 prennent vie et ou l’aventure ne s’arrete
 jamais.</p>
 
 <p>Envolez-vous aux cotes de Peter Pan,<br>
 Suivez la
 poussiere d’etoiles de la Fee Clochette,<br>
 Affrontez les pirates
 du Capitaine Crochet…</p>
 
 <p>… et plongez dans un voyage
 feerique, entre grace et puissance, ou chaque eclat d’eau devient
 magie.</p>
 
 <p><strong><span style="color:#8e44ad;">Deux soirees hors
 du temps, entre reve et emotions… Prets a vous
 envoler ? </span></strong></p>
 
 <p><span
 style="font-size:18px;"><strong>Pensez a reservez vos billets (Nombre
 de places limitees). </strong></span></p>
 
 <p><span
 style="font-size:16px;"><span
 style="color:#8e44ad;"><strong><u>Billeterie en ligne</u>:
 </strong></span><span style="color:#d35400;"><strong>Attention a bien
 choisir la bonne date :)</strong></span></span></p>
 
 <p><u><span
 style="font-size:16px;"><span style="color:#c0392b;"><strong>Pour le
 vendredi 3 juillet</strong></span></span> </u>= <a
 href="https://nat-synchro-mulhouse.assoconnect.com/collect/description/695453-b-la-natsynchro-mulhouse-senvole-au-pays-imaginaire"
 target="_blank" rel="noreferrer noopener">Billeterie
 vendredi</a></p>
 
 <p><u><span style="font-size:16px;"><span
 style="color:#c0392b;"><strong>Pour le samedi 4
 juillet</strong></span></span></u> = <a
 href="https://nat-synchro-mulhouse.assoconnect.com/collect/description/695454-b-la-natsynchro-mulhouse-senvole-au-pays-imaginaire"
 target="_blank" rel="noreferrer noopener">Billeterie
 samedi</a></p>
 
 <p>Nos nageuses portent fierement les couleurs du
 club en competition. De la scene regionale aux plus hauts niveaux
 nationaux, illustrant l’exigence, la progression et la qualite du
 travail accompli tout au long de l’annee.</p>
 
 <p>Leur
 determination, leur sens artistique et leur rigueur incarnent la
 force de tout un club, porte par l’engagement des entraineurs et
 l’investissement de chacun, au service de performances
 remarquables.</p>
URL;VALUE=URI:https://www.natsynchromulhouse.fr/evenements/2026/07/03/la-natsynchro-mulhouse-senvole-au-pays-imaginaire-2361701
END:VEVENT
END:VCALENDAR
